BEGIN:VCALENDAR
VERSION:2.0
PRODID:-//Rethink Chronic Disease - ECPv6.15.14//NONSGML v1.0//EN
CALSCALE:GREGORIAN
METHOD:PUBLISH
X-WR-CALNAME:Rethink Chronic Disease
X-ORIGINAL-URL:https://rethinkchronicdisease.org
X-WR-CALDESC:Events for Rethink Chronic Disease
REFRESH-INTERVAL;VALUE=DURATION:PT1H
X-Robots-Tag:noindex
X-PUBLISHED-TTL:PT1H
BEGIN:VTIMEZONE
TZID:America/New_York
BEGIN:DAYLIGHT
TZOFFSETFROM:-0500
TZOFFSETTO:-0400
TZNAME:EDT
DTSTART:20250309T070000
END:DAYLIGHT
BEGIN:STANDARD
TZOFFSETFROM:-0400
TZOFFSETTO:-0500
TZNAME:EST
DTSTART:20251102T060000
END:STANDARD
BEGIN:DAYLIGHT
TZOFFSETFROM:-0500
TZOFFSETTO:-0400
TZNAME:EDT
DTSTART:20260308T070000
END:DAYLIGHT
BEGIN:STANDARD
TZOFFSETFROM:-0400
TZOFFSETTO:-0500
TZNAME:EST
DTSTART:20261101T060000
END:STANDARD
BEGIN:DAYLIGHT
TZOFFSETFROM:-0500
TZOFFSETTO:-0400
TZNAME:EDT
DTSTART:20270314T070000
END:DAYLIGHT
BEGIN:STANDARD
TZOFFSETFROM:-0400
TZOFFSETTO:-0500
TZNAME:EST
DTSTART:20271107T060000
END:STANDARD
END:VTIMEZONE
BEGIN:VEVENT
DTSTART;VALUE=DATE:20260315
DTEND;VALUE=DATE:20260522
DTSTAMP:20260420T202026
CREATED:20260116T204945Z
LAST-MODIFIED:20260116T204945Z
UID:2567-1773532800-1779407999@rethinkchronicdisease.org
SUMMARY:National CACFP Week
DESCRIPTION:
URL:https://rethinkchronicdisease.org/event/national-cacfp-week/
CATEGORIES:Obesity
END:VEVENT
BEGIN:VEVENT
DTSTART;VALUE=DATE:20260501
DTEND;VALUE=DATE:20260601
DTSTAMP:20260420T202026
CREATED:20260116T205648Z
LAST-MODIFIED:20260116T205648Z
UID:2577-1777593600-1780271999@rethinkchronicdisease.org
SUMMARY:Asthma Awareness Month
DESCRIPTION:
URL:https://rethinkchronicdisease.org/event/asthma-awareness-month/
CATEGORIES:Asthma
END:VEVENT
BEGIN:VEVENT
DTSTART;VALUE=DATE:20260501
DTEND;VALUE=DATE:20260601
DTSTAMP:20260420T202026
CREATED:20260116T205739Z
LAST-MODIFIED:20260116T205739Z
UID:2578-1777593600-1780271999@rethinkchronicdisease.org
SUMMARY:High Blood Pressure Awareness Month
DESCRIPTION:
URL:https://rethinkchronicdisease.org/event/high-blood-pressure-awareness-month/
CATEGORIES:Chronic Disease
END:VEVENT
BEGIN:VEVENT
DTSTART;VALUE=DATE:20260501
DTEND;VALUE=DATE:20260601
DTSTAMP:20260420T202026
CREATED:20260116T205802Z
LAST-MODIFIED:20260116T205802Z
UID:2579-1777593600-1780271999@rethinkchronicdisease.org
SUMMARY:National Physical Fitness and Sports Month
DESCRIPTION:
URL:https://rethinkchronicdisease.org/event/national-physical-fitness-and-sports-month/
CATEGORIES:Obesity
END:VEVENT
BEGIN:VEVENT
DTSTART;VALUE=DATE:20260501
DTEND;VALUE=DATE:20260601
DTSTAMP:20260420T202026
CREATED:20260116T205946Z
LAST-MODIFIED:20260116T205946Z
UID:2581-1777593600-1780271999@rethinkchronicdisease.org
SUMMARY:Melanoma and Skin Cancer Awareness Month
DESCRIPTION:
URL:https://rethinkchronicdisease.org/event/melanoma-and-skin-cancer-awareness-month/
CATEGORIES:Chronic Disease
END:VEVENT
BEGIN:VEVENT
DTSTART;VALUE=DATE:20260501
DTEND;VALUE=DATE:20260601
DTSTAMP:20260420T202026
CREATED:20260116T210026Z
LAST-MODIFIED:20260116T210026Z
UID:2583-1777593600-1780271999@rethinkchronicdisease.org
SUMMARY:Bladder Cancer Awareness Month
DESCRIPTION:
URL:https://rethinkchronicdisease.org/event/bladder-cancer-awareness-month/
CATEGORIES:Chronic Disease
END:VEVENT
BEGIN:VEVENT
DTSTART;TZID=America/New_York:20260507T090000
DTEND;TZID=America/New_York:20260507T100000
DTSTAMP:20260420T202026
CREATED:20260116T210152Z
LAST-MODIFIED:20260116T210152Z
UID:2586-1778144400-1778148000@rethinkchronicdisease.org
SUMMARY:Cancer Screening Workgroup
DESCRIPTION:
URL:https://rethinkchronicdisease.org/event/cancer-screening-workgroup-2/
CATEGORIES:Chronic Disease
END:VEVENT
BEGIN:VEVENT
DTSTART;VALUE=DATE:20260509
DTEND;VALUE=DATE:20260510
DTSTAMP:20260420T202026
CREATED:20260116T210213Z
LAST-MODIFIED:20260116T210213Z
UID:2587-1778284800-1778371199@rethinkchronicdisease.org
SUMMARY:Maine School Garden Day
DESCRIPTION:
URL:https://rethinkchronicdisease.org/event/maine-school-garden-day/
CATEGORIES:Obesity
END:VEVENT
BEGIN:VEVENT
DTSTART;VALUE=DATE:20260510
DTEND;VALUE=DATE:20260601
DTSTAMP:20260420T202026
CREATED:20260116T205846Z
LAST-MODIFIED:20260116T205846Z
UID:2580-1778371200-1780271999@rethinkchronicdisease.org
SUMMARY:National Womens Health Month
DESCRIPTION:
URL:https://rethinkchronicdisease.org/event/national-womens-health-month/
CATEGORIES:Chronic Disease
END:VEVENT
BEGIN:VEVENT
DTSTART;TZID=America/New_York:20260521T090000
DTEND;TZID=America/New_York:20260521T100000
DTSTAMP:20260420T202026
CREATED:20260116T210059Z
LAST-MODIFIED:20260116T210059Z
UID:2584-1779354000-1779357600@rethinkchronicdisease.org
SUMMARY:Cancer Alcohol Workgroup
DESCRIPTION:
URL:https://rethinkchronicdisease.org/event/cancer-alcohol-workgroup-4/
CATEGORIES:Chronic Disease
END:VEVENT
BEGIN:VEVENT
DTSTART;TZID=America/New_York:20260521T110000
DTEND;TZID=America/New_York:20260521T120000
DTSTAMP:20260420T202026
CREATED:20260116T210124Z
LAST-MODIFIED:20260116T210124Z
UID:2585-1779361200-1779364800@rethinkchronicdisease.org
SUMMARY:Cancer Obesity Workgroup
DESCRIPTION:
URL:https://rethinkchronicdisease.org/event/cancer-obesity-workgroup-3/
CATEGORIES:Chronic Disease
END:VEVENT
BEGIN:VEVENT
DTSTART;VALUE=DATE:20260601
DTEND;VALUE=DATE:20260701
DTSTAMP:20260420T202026
CREATED:20260116T210237Z
LAST-MODIFIED:20260116T210237Z
UID:2588-1780272000-1782863999@rethinkchronicdisease.org
SUMMARY:Alzheimer's and Brain Awareness Month
DESCRIPTION:
URL:https://rethinkchronicdisease.org/event/alzheimers-and-brain-awareness-month/
CATEGORIES:Alzheimer's & Dementia
END:VEVENT
BEGIN:VEVENT
DTSTART;VALUE=DATE:20260601
DTEND;VALUE=DATE:20260701
DTSTAMP:20260420T202026
CREATED:20260116T210300Z
LAST-MODIFIED:20260116T210300Z
UID:2589-1780272000-1782863999@rethinkchronicdisease.org
SUMMARY:National Cancer Survivor Month
DESCRIPTION:
URL:https://rethinkchronicdisease.org/event/national-cancer-survivor-month/
CATEGORIES:Chronic Disease
END:VEVENT
BEGIN:VEVENT
DTSTART;VALUE=DATE:20260607
DTEND;VALUE=DATE:20260608
DTSTAMP:20260420T202026
CREATED:20260116T210324Z
LAST-MODIFIED:20260116T210324Z
UID:2590-1780790400-1780876799@rethinkchronicdisease.org
SUMMARY:National Cancer Survivor’s Day
DESCRIPTION:
URL:https://rethinkchronicdisease.org/event/national-cancer-survivors-day/
CATEGORIES:Chronic Disease
END:VEVENT
BEGIN:VEVENT
DTSTART;TZID=America/New_York:20260701T080000
DTEND;TZID=America/New_York:20260731T170000
DTSTAMP:20260420T202026
CREATED:20260116T210426Z
LAST-MODIFIED:20260116T210426Z
UID:2591-1782892800-1785517200@rethinkchronicdisease.org
SUMMARY:UV Safety Awareness Month
DESCRIPTION:
URL:https://rethinkchronicdisease.org/event/uv-safety-awareness-month/
CATEGORIES:Comprehensive Cancer
END:VEVENT
BEGIN:VEVENT
DTSTART;TZID=America/New_York:20260708T130000
DTEND;TZID=America/New_York:20260708T140000
DTSTAMP:20260420T202026
CREATED:20260116T210610Z
LAST-MODIFIED:20260116T210610Z
UID:2595-1783515600-1783519200@rethinkchronicdisease.org
SUMMARY:HPV Workgroup
DESCRIPTION:
URL:https://rethinkchronicdisease.org/event/hpv-workgroup-2/
CATEGORIES:Comprehensive Cancer
END:VEVENT
BEGIN:VEVENT
DTSTART;TZID=America/New_York:20260709T090000
DTEND;TZID=America/New_York:20260709T100000
DTSTAMP:20260420T202026
CREATED:20260116T210539Z
LAST-MODIFIED:20260116T210539Z
UID:2594-1783587600-1783591200@rethinkchronicdisease.org
SUMMARY:Cancer Screening Workgroup
DESCRIPTION:
URL:https://rethinkchronicdisease.org/event/cancer-screening-workgroup-3/
CATEGORIES:Chronic Disease
END:VEVENT
BEGIN:VEVENT
DTSTART;TZID=America/New_York:20260716T090000
DTEND;TZID=America/New_York:20260716T100000
DTSTAMP:20260420T202026
CREATED:20260116T210447Z
LAST-MODIFIED:20260116T210447Z
UID:2592-1784192400-1784196000@rethinkchronicdisease.org
SUMMARY:Cancer Alcohol Workgroup
DESCRIPTION:
URL:https://rethinkchronicdisease.org/event/cancer-alcohol-workgroup-5/
CATEGORIES:Chronic Disease
END:VEVENT
BEGIN:VEVENT
DTSTART;TZID=America/New_York:20260716T110000
DTEND;TZID=America/New_York:20260716T120000
DTSTAMP:20260420T202026
CREATED:20260116T210508Z
LAST-MODIFIED:20260116T210508Z
UID:2593-1784199600-1784203200@rethinkchronicdisease.org
SUMMARY:Cancer Obesity Workgroup
DESCRIPTION:
URL:https://rethinkchronicdisease.org/event/cancer-obesity-workgroup-4/
CATEGORIES:Chronic Disease
END:VEVENT
BEGIN:VEVENT
DTSTART;VALUE=DATE:20260801
DTEND;VALUE=DATE:20260901
DTSTAMP:20260420T202026
CREATED:20260116T210759Z
LAST-MODIFIED:20260116T210759Z
UID:2596-1785542400-1788220799@rethinkchronicdisease.org
SUMMARY:National Breast Feeding Month
DESCRIPTION:
URL:https://rethinkchronicdisease.org/event/national-breast-feeding-month/
CATEGORIES:Obesity
END:VEVENT
BEGIN:VEVENT
DTSTART;TZID=America/New_York:20260801T080000
DTEND;TZID=America/New_York:20260831T170000
DTSTAMP:20260420T202026
CREATED:20260116T210838Z
LAST-MODIFIED:20260116T210838Z
UID:2597-1785571200-1788195600@rethinkchronicdisease.org
SUMMARY:National Immunization Awareness Month
DESCRIPTION:
URL:https://rethinkchronicdisease.org/event/national-immunization-awareness-month/
CATEGORIES:Chronic Disease
END:VEVENT
BEGIN:VEVENT
DTSTART;TZID=America/New_York:20260820T090000
DTEND;TZID=America/New_York:20260820T100000
DTSTAMP:20260420T202026
CREATED:20260116T210905Z
LAST-MODIFIED:20260116T210905Z
UID:2598-1787216400-1787220000@rethinkchronicdisease.org
SUMMARY:Cancer Alcohol Workgroup
DESCRIPTION:
URL:https://rethinkchronicdisease.org/event/cancer-alcohol-workgroup-6/
CATEGORIES:Chronic Disease
END:VEVENT
BEGIN:VEVENT
DTSTART;VALUE=DATE:20260901
DTEND;VALUE=DATE:20261001
DTSTAMP:20260420T202026
CREATED:20260116T211013Z
LAST-MODIFIED:20260116T211013Z
UID:2600-1788220800-1790812799@rethinkchronicdisease.org
SUMMARY:Childhood Cancer Awareness Month
DESCRIPTION:
URL:https://rethinkchronicdisease.org/event/childhood-cancer-awareness-month/
CATEGORIES:Chronic Disease
END:VEVENT
BEGIN:VEVENT
DTSTART;TZID=America/New_York:20260910T090000
DTEND;TZID=America/New_York:20260910T100000
DTSTAMP:20260420T202026
CREATED:20260116T211126Z
LAST-MODIFIED:20260116T211126Z
UID:2603-1789030800-1789034400@rethinkchronicdisease.org
SUMMARY:Cancer Screening Workgroup
DESCRIPTION:
URL:https://rethinkchronicdisease.org/event/cancer-screening-workgroup-4/
CATEGORIES:Chronic Disease
END:VEVENT
BEGIN:VEVENT
DTSTART;TZID=America/New_York:20260917T090000
DTEND;TZID=America/New_York:20260917T100000
DTSTAMP:20260420T202026
CREATED:20260116T211039Z
LAST-MODIFIED:20260116T211039Z
UID:2601-1789635600-1789639200@rethinkchronicdisease.org
SUMMARY:Cancer Alcohol Workgroup
DESCRIPTION:
URL:https://rethinkchronicdisease.org/event/cancer-alcohol-workgroup-7/
CATEGORIES:Chronic Disease
END:VEVENT
BEGIN:VEVENT
DTSTART;TZID=America/New_York:20260917T110000
DTEND;TZID=America/New_York:20260917T120000
DTSTAMP:20260420T202026
CREATED:20260116T211102Z
LAST-MODIFIED:20260116T211102Z
UID:2602-1789642800-1789646400@rethinkchronicdisease.org
SUMMARY:Cancer Obesity Workgroup
DESCRIPTION:
URL:https://rethinkchronicdisease.org/event/cancer-obesity-workgroup-5/
CATEGORIES:Chronic Disease
END:VEVENT
BEGIN:VEVENT
DTSTART;VALUE=DATE:20260921
DTEND;VALUE=DATE:20260922
DTSTAMP:20260420T202026
CREATED:20260116T210935Z
LAST-MODIFIED:20260116T210935Z
UID:2599-1789948800-1790035199@rethinkchronicdisease.org
SUMMARY:World Alzheimer's Day
DESCRIPTION:
URL:https://rethinkchronicdisease.org/event/world-alzheimers-day/
CATEGORIES:Alzheimer's & Dementia
END:VEVENT
BEGIN:VEVENT
DTSTART;VALUE=DATE:20261001
DTEND;VALUE=DATE:20261101
DTSTAMP:20260420T202026
CREATED:20260116T211147Z
LAST-MODIFIED:20260116T211147Z
UID:2604-1790812800-1793491199@rethinkchronicdisease.org
SUMMARY:National Farm to School Month
DESCRIPTION:
URL:https://rethinkchronicdisease.org/event/national-farm-to-school-month/
CATEGORIES:Obesity
END:VEVENT
BEGIN:VEVENT
DTSTART;VALUE=DATE:20261012
DTEND;VALUE=DATE:20261017
DTSTAMP:20260420T202026
CREATED:20260116T211215Z
LAST-MODIFIED:20260116T211215Z
UID:2605-1791763200-1792195199@rethinkchronicdisease.org
SUMMARY:National School Lunch Week
DESCRIPTION:
URL:https://rethinkchronicdisease.org/event/national-school-lunch-week/
CATEGORIES:Obesity
END:VEVENT
BEGIN:VEVENT
DTSTART;TZID=America/New_York:20261012T080000
DTEND;TZID=America/New_York:20261016T170000
DTSTAMP:20260420T202026
CREATED:20260116T212509Z
LAST-MODIFIED:20260116T212509Z
UID:2608-1791792000-1792170000@rethinkchronicdisease.org
SUMMARY:Farm to CACFP Week
DESCRIPTION:
URL:https://rethinkchronicdisease.org/event/farm-to-cacfp-week/
CATEGORIES:Obesity
END:VEVENT
END:VCALENDAR