BEGIN:VCALENDAR
VERSION:2.0
PRODID:-//Rethink Chronic Disease - ECPv6.15.14//NONSGML v1.0//EN
CALSCALE:GREGORIAN
METHOD:PUBLISH
X-WR-CALNAME:Rethink Chronic Disease
X-ORIGINAL-URL:https://rethinkchronicdisease.org
X-WR-CALDESC:Events for Rethink Chronic Disease
REFRESH-INTERVAL;VALUE=DURATION:PT1H
X-Robots-Tag:noindex
X-PUBLISHED-TTL:PT1H
BEGIN:VTIMEZONE
TZID:America/New_York
BEGIN:DAYLIGHT
TZOFFSETFROM:-0500
TZOFFSETTO:-0400
TZNAME:EDT
DTSTART:20250309T070000
END:DAYLIGHT
BEGIN:STANDARD
TZOFFSETFROM:-0400
TZOFFSETTO:-0500
TZNAME:EST
DTSTART:20251102T060000
END:STANDARD
BEGIN:DAYLIGHT
TZOFFSETFROM:-0500
TZOFFSETTO:-0400
TZNAME:EDT
DTSTART:20260308T070000
END:DAYLIGHT
BEGIN:STANDARD
TZOFFSETFROM:-0400
TZOFFSETTO:-0500
TZNAME:EST
DTSTART:20261101T060000
END:STANDARD
BEGIN:DAYLIGHT
TZOFFSETFROM:-0500
TZOFFSETTO:-0400
TZNAME:EDT
DTSTART:20270314T070000
END:DAYLIGHT
BEGIN:STANDARD
TZOFFSETFROM:-0400
TZOFFSETTO:-0500
TZNAME:EST
DTSTART:20271107T060000
END:STANDARD
END:VTIMEZONE
BEGIN:VEVENT
DTSTART;VALUE=DATE:20260325
DTEND;VALUE=DATE:20260326
DTSTAMP:20260420T171738
CREATED:20260116T205013Z
LAST-MODIFIED:20260116T205013Z
UID:2568-1774396800-1774483199@rethinkchronicdisease.org
SUMMARY:Diabetes Alert Day
DESCRIPTION:
URL:https://rethinkchronicdisease.org/event/diabetes-alert-day/
CATEGORIES:Chronic Disease
END:VEVENT
BEGIN:VEVENT
DTSTART;TZID=America/New_York:20260319T110000
DTEND;TZID=America/New_York:20260319T120000
DTSTAMP:20260420T171738
CREATED:20260116T205138Z
LAST-MODIFIED:20260116T205138Z
UID:2570-1773918000-1773921600@rethinkchronicdisease.org
SUMMARY:Cancer Obesity Workgroup
DESCRIPTION:
URL:https://rethinkchronicdisease.org/event/cancer-obesity-workgroup-2/
CATEGORIES:Chronic Disease
END:VEVENT
BEGIN:VEVENT
DTSTART;TZID=America/New_York:20260319T090000
DTEND;TZID=America/New_York:20260319T100000
DTSTAMP:20260420T171738
CREATED:20260116T205042Z
LAST-MODIFIED:20260116T205042Z
UID:2569-1773910800-1773914400@rethinkchronicdisease.org
SUMMARY:Cancer Alcohol Workgroup
DESCRIPTION:
URL:https://rethinkchronicdisease.org/event/cancer-alcohol-workgroup-3/
CATEGORIES:Chronic Disease
END:VEVENT
BEGIN:VEVENT
DTSTART;TZID=America/New_York:20260312T090000
DTEND;TZID=America/New_York:20260312T100000
DTSTAMP:20260420T171738
CREATED:20260116T205206Z
LAST-MODIFIED:20260116T205206Z
UID:2571-1773306000-1773309600@rethinkchronicdisease.org
SUMMARY:Cancer Screening Workgroup - 2nd Thurs from 9-10
DESCRIPTION:
URL:https://rethinkchronicdisease.org/event/cancer-screening-workgroup-2nd-thurs-from-9-10/
CATEGORIES:Chronic Disease
END:VEVENT
BEGIN:VEVENT
DTSTART;VALUE=DATE:20260311
DTEND;VALUE=DATE:20260312
DTSTAMP:20260420T171738
CREATED:20260116T205232Z
LAST-MODIFIED:20260116T205232Z
UID:2572-1773187200-1773273599@rethinkchronicdisease.org
SUMMARY:Registered Dietitian Nutritionist Day
DESCRIPTION:
URL:https://rethinkchronicdisease.org/event/registered-dietitian-nutritionist-day/
CATEGORIES:Obesity
END:VEVENT
BEGIN:VEVENT
DTSTART;VALUE=DATE:20260306
DTEND;VALUE=DATE:20260307
DTSTAMP:20260420T171738
CREATED:20260116T204835Z
LAST-MODIFIED:20260116T204835Z
UID:2565-1772755200-1772841599@rethinkchronicdisease.org
SUMMARY:Dress in Blue Day
DESCRIPTION:Wear blue to show support for CRC and raise awareness.
URL:https://rethinkchronicdisease.org/event/dress-in-blue-day/
CATEGORIES:Chronic Disease
END:VEVENT
BEGIN:VEVENT
DTSTART;VALUE=DATE:20260304
DTEND;VALUE=DATE:20260305
DTSTAMP:20260420T171738
CREATED:20260116T204903Z
LAST-MODIFIED:20260116T204903Z
UID:2566-1772582400-1772668799@rethinkchronicdisease.org
SUMMARY:HPV Awareness Day
DESCRIPTION:
URL:https://rethinkchronicdisease.org/event/hpv-awareness-day/
CATEGORIES:Chronic Disease
END:VEVENT
BEGIN:VEVENT
DTSTART;VALUE=DATE:20260302
DTEND;VALUE=DATE:20260307
DTSTAMP:20260420T171738
CREATED:20260116T204714Z
LAST-MODIFIED:20260116T204714Z
UID:2564-1772409600-1772841599@rethinkchronicdisease.org
SUMMARY:National School Breakfast Week
DESCRIPTION:
URL:https://rethinkchronicdisease.org/event/national-school-breakfast-week/
CATEGORIES:Obesity
END:VEVENT
BEGIN:VEVENT
DTSTART;TZID=America/New_York:20260301T080000
DTEND;TZID=America/New_York:20260331T170000
DTSTAMP:20260420T171738
CREATED:20260116T204637Z
LAST-MODIFIED:20260116T204637Z
UID:2563-1772352000-1774976400@rethinkchronicdisease.org
SUMMARY:Colorectal Cancer Awareness Month
DESCRIPTION:
URL:https://rethinkchronicdisease.org/event/colorectal-cancer-awareness-month/
CATEGORIES:Chronic Disease
END:VEVENT
BEGIN:VEVENT
DTSTART;VALUE=DATE:20260301
DTEND;VALUE=DATE:20260401
DTSTAMP:20260420T171738
CREATED:20260116T204607Z
LAST-MODIFIED:20260116T204607Z
UID:2562-1772323200-1775001599@rethinkchronicdisease.org
SUMMARY:National Nutrition Month
DESCRIPTION:
URL:https://rethinkchronicdisease.org/event/national-nutrition-month/
CATEGORIES:Chronic Disease
END:VEVENT
BEGIN:VEVENT
DTSTART;TZID=America/New_York:20260219T090000
DTEND;TZID=America/New_York:20260219T100000
DTSTAMP:20260420T171738
CREATED:20260116T204547Z
LAST-MODIFIED:20260116T204547Z
UID:2561-1771491600-1771495200@rethinkchronicdisease.org
SUMMARY:Cancer Alcohol Workgroup
DESCRIPTION:
URL:https://rethinkchronicdisease.org/event/cancer-alcohol-workgroup-2/
CATEGORIES:Chronic Disease
END:VEVENT
BEGIN:VEVENT
DTSTART;VALUE=DATE:20260204
DTEND;VALUE=DATE:20260205
DTSTAMP:20260420T171738
CREATED:20260116T204312Z
LAST-MODIFIED:20260116T204312Z
UID:2560-1770163200-1770249599@rethinkchronicdisease.org
SUMMARY:World Cancer Day
DESCRIPTION:
URL:https://rethinkchronicdisease.org/event/world-cancer-day/
CATEGORIES:Chronic Disease
END:VEVENT
BEGIN:VEVENT
DTSTART;VALUE=DATE:20260201
DTEND;VALUE=DATE:20260301
DTSTAMP:20260420T171738
CREATED:20260116T203937Z
LAST-MODIFIED:20260116T203937Z
UID:2559-1769904000-1772323199@rethinkchronicdisease.org
SUMMARY:National Cancer Prevention Month
DESCRIPTION:
URL:https://rethinkchronicdisease.org/event/national-cancer-prevention-month/
CATEGORIES:Chronic Disease
END:VEVENT
BEGIN:VEVENT
DTSTART;VALUE=DATE:20260201
DTEND;VALUE=DATE:20260301
DTSTAMP:20260420T171738
CREATED:20260116T203901Z
LAST-MODIFIED:20260116T203901Z
UID:2558-1769904000-1772323199@rethinkchronicdisease.org
SUMMARY:American Heart Month
DESCRIPTION:
URL:https://rethinkchronicdisease.org/event/american-heart-month/
CATEGORIES:Chronic Disease
END:VEVENT
BEGIN:VEVENT
DTSTART;TZID=America/New_York:20260115T110000
DTEND;TZID=America/New_York:20260115T120000
DTSTAMP:20260420T171738
CREATED:20260113T211253Z
LAST-MODIFIED:20260116T203611Z
UID:2524-1768474800-1768478400@rethinkchronicdisease.org
SUMMARY:Cancer Obesity Workgroup
DESCRIPTION:
URL:https://rethinkchronicdisease.org/event/cancer-obesity-workgroup/
CATEGORIES:Obesity
END:VEVENT
BEGIN:VEVENT
DTSTART;TZID=America/New_York:20260115T090000
DTEND;TZID=America/New_York:20260115T100000
DTSTAMP:20260420T171738
CREATED:20260113T211226Z
LAST-MODIFIED:20260116T203518Z
UID:2523-1768467600-1768471200@rethinkchronicdisease.org
SUMMARY:Cancer Alcohol Workgroup
DESCRIPTION:
URL:https://rethinkchronicdisease.org/event/cancer-alcohol-workgroup/
CATEGORIES:Chronic Disease
END:VEVENT
BEGIN:VEVENT
DTSTART;TZID=America/New_York:20260114T130000
DTEND;TZID=America/New_York:20260114T140000
DTSTAMP:20260420T171738
CREATED:20260113T210944Z
LAST-MODIFIED:20260116T203501Z
UID:2521-1768395600-1768399200@rethinkchronicdisease.org
SUMMARY:HPV Workgroup
DESCRIPTION:
URL:https://rethinkchronicdisease.org/event/hpv-workgroup/
CATEGORIES:Comprehensive Cancer
END:VEVENT
BEGIN:VEVENT
DTSTART;VALUE=DATE:20260101
DTEND;VALUE=DATE:20260201
DTSTAMP:20260420T171738
CREATED:20260113T210901Z
LAST-MODIFIED:20260116T203238Z
UID:2520-1767225600-1769903999@rethinkchronicdisease.org
SUMMARY:Radon Awareness Month
DESCRIPTION:
URL:https://rethinkchronicdisease.org/event/radon-awareness-month/
CATEGORIES:Comprehensive Cancer
END:VEVENT
BEGIN:VEVENT
DTSTART;VALUE=DATE:20260101
DTEND;VALUE=DATE:20260201
DTSTAMP:20260420T171738
CREATED:20260113T210733Z
LAST-MODIFIED:20260116T203229Z
UID:2519-1767225600-1769903999@rethinkchronicdisease.org
SUMMARY:Cervical Cancer Awareness Month
DESCRIPTION:
URL:https://rethinkchronicdisease.org/event/cervical-cancer-awareness-month/
CATEGORIES:Chronic Disease
END:VEVENT
END:VCALENDAR