BEGIN:VCALENDAR
VERSION:2.0
PRODID:-//Rethink Chronic Disease - ECPv6.15.14//NONSGML v1.0//EN
CALSCALE:GREGORIAN
METHOD:PUBLISH
X-WR-CALNAME:Rethink Chronic Disease
X-ORIGINAL-URL:https://rethinkchronicdisease.org
X-WR-CALDESC:Events for Rethink Chronic Disease
REFRESH-INTERVAL;VALUE=DURATION:PT1H
X-Robots-Tag:noindex
X-PUBLISHED-TTL:PT1H
BEGIN:VTIMEZONE
TZID:America/New_York
BEGIN:DAYLIGHT
TZOFFSETFROM:-0500
TZOFFSETTO:-0400
TZNAME:EDT
DTSTART:20250309T070000
END:DAYLIGHT
BEGIN:STANDARD
TZOFFSETFROM:-0400
TZOFFSETTO:-0500
TZNAME:EST
DTSTART:20251102T060000
END:STANDARD
BEGIN:DAYLIGHT
TZOFFSETFROM:-0500
TZOFFSETTO:-0400
TZNAME:EDT
DTSTART:20260308T070000
END:DAYLIGHT
BEGIN:STANDARD
TZOFFSETFROM:-0400
TZOFFSETTO:-0500
TZNAME:EST
DTSTART:20261101T060000
END:STANDARD
BEGIN:DAYLIGHT
TZOFFSETFROM:-0500
TZOFFSETTO:-0400
TZNAME:EDT
DTSTART:20270314T070000
END:DAYLIGHT
BEGIN:STANDARD
TZOFFSETFROM:-0400
TZOFFSETTO:-0500
TZNAME:EST
DTSTART:20271107T060000
END:STANDARD
END:VTIMEZONE
BEGIN:VEVENT
DTSTART;VALUE=DATE:20260315
DTEND;VALUE=DATE:20260522
DTSTAMP:20260420T212224
CREATED:20260116T204945Z
LAST-MODIFIED:20260116T204945Z
UID:2567-1773532800-1779407999@rethinkchronicdisease.org
SUMMARY:National CACFP Week
DESCRIPTION:
URL:https://rethinkchronicdisease.org/event/national-cacfp-week/
CATEGORIES:Obesity
END:VEVENT
BEGIN:VEVENT
DTSTART;VALUE=DATE:20260401
DTEND;VALUE=DATE:20260501
DTSTAMP:20260420T212224
CREATED:20260116T205318Z
LAST-MODIFIED:20260116T205318Z
UID:2573-1775001600-1777593599@rethinkchronicdisease.org
SUMMARY:Alcohol Awareness Month
DESCRIPTION:
URL:https://rethinkchronicdisease.org/event/alcohol-awareness-month/
CATEGORIES:Chronic Disease
END:VEVENT
BEGIN:VEVENT
DTSTART;VALUE=DATE:20260401
DTEND;VALUE=DATE:20260501
DTSTAMP:20260420T212224
CREATED:20260116T205539Z
LAST-MODIFIED:20260116T205539Z
UID:2575-1775001600-1777593599@rethinkchronicdisease.org
SUMMARY:Head and Neck Cancer Awareness Month
DESCRIPTION:
URL:https://rethinkchronicdisease.org/event/head-and-neck-cancer-awareness-month/
CATEGORIES:Chronic Disease
END:VEVENT
END:VCALENDAR